BEGIN:VCALENDAR
VERSION:2.0
PRODID:SchoolNow
CALSCALE:GREGORIAN
BEGIN:VEVENT
UID:d4f79ff4-380f-11f1-b20d-0ec9fb2e4937
DTSTAMP:20260420T043007Z
SUMMARY:5th/6th grade LEAP Testing
URL;VALUE=URI:https://www.tpsd.org/schools/lpe/calendar/8993229/5th-6th-gra
 de-leap-testing
DTSTART;VALUE=DATE:20260425
DTEND;VALUE=DATE:20260426
END:VEVENT
END:VCALENDAR
