BEGIN:VCALENDAR
VERSION:2.0
PRODID:SchoolNow
CALSCALE:GREGORIAN
BEGIN:VEVENT
UID:d4f79e28-380f-11f1-b3eb-0ec9fb2e4937
DTSTAMP:20260420T043007Z
SUMMARY:5th/6th grade LEAP Testing
URL;VALUE=URI:https://www.tpsd.org/schools/lpe/calendar/8993227/5th-6th-gra
 de-leap-testing
DTSTART;VALUE=DATE:20260423
DTEND;VALUE=DATE:20260424
END:VEVENT
END:VCALENDAR
