BEGIN:VCALENDAR
VERSION:2.0
PRODID:SchoolNow
CALSCALE:GREGORIAN
BEGIN:VEVENT
UID:d4f79d42-380f-11f1-8fe8-0ec9fb2e4937
DTSTAMP:20260420T043007Z
SUMMARY:5th/6th grade LEAP Testing
URL;VALUE=URI:https://www.tpsd.org/schools/lpe/calendar/8993226/5th-6th-gra
 de-leap-testing
DTSTART;VALUE=DATE:20260422
DTEND;VALUE=DATE:20260423
END:VEVENT
END:VCALENDAR
