BEGIN:VCALENDAR
VERSION:2.0
PRODID:SchoolNow
CALSCALE:GREGORIAN
BEGIN:VEVENT
UID:d4f79c5c-380f-11f1-81c1-0ec9fb2e4937
DTSTAMP:20260420T043007Z
SUMMARY:5th/6th grade LEAP Testing
URL;VALUE=URI:https://www.tpsd.org/schools/lpe/calendar/8993225/5th-6th-gra
 de-leap-testing
DTSTART;VALUE=DATE:20260421
DTEND;VALUE=DATE:20260422
END:VEVENT
END:VCALENDAR
