BEGIN:VCALENDAR
VERSION:2.0
PRODID:SchoolNow
CALSCALE:GREGORIAN
BEGIN:VEVENT
UID:d4f7952c-380f-11f1-95c4-0ec9fb2e4937
DTSTAMP:20260420T043007Z
SUMMARY:3rd/4th grade LEAP Testing
URL;VALUE=URI:https://www.tpsd.org/schools/lpe/calendar/8993218/3rd-4th-gra
 de-leap-testing
DTSTART;VALUE=DATE:20260502
DTEND;VALUE=DATE:20260503
END:VEVENT
END:VCALENDAR
