BEGIN:VCALENDAR
VERSION:2.0
PRODID:SchoolNow
CALSCALE:GREGORIAN
BEGIN:VEVENT
UID:d4f78a64-380f-11f1-9652-0ec9fb2e4937
DTSTAMP:20260420T043006Z
SUMMARY:Progress Reports in Parent Portal
URL;VALUE=URI:https://www.tpsd.org/schools/lpe/calendar/8993214/progress-re
 ports-in-parent-portal
DTSTART;VALUE=DATE:20260424
DTEND;VALUE=DATE:20260425
END:VEVENT
END:VCALENDAR
