BEGIN:VCALENDAR
VERSION:2.0
PRODID:SchoolNow
CALSCALE:GREGORIAN
BEGIN:VEVENT
UID:d4f786f4-380f-11f1-a892-0ec9fb2e4937
DTSTAMP:20260420T043006Z
SUMMARY:2nd Grade Field Trip
URL;VALUE=URI:https://www.tpsd.org/schools/lpe/calendar/8993213/2nd-grade-f
 ield-trip
DTSTART:20260430T140000Z
DTEND:20260430T170000Z
END:VEVENT
END:VCALENDAR
