BEGIN:VCALENDAR
VERSION:2.0
PRODID:SchoolNow
CALSCALE:GREGORIAN
BEGIN:VEVENT
UID:7e35724a-1735-11f1-9a43-0affdec17683
DTSTAMP:20260420T043007Z
SUMMARY:Beta Practice
URL;VALUE=URI:https://www.tpsd.org/schools/lpe/calendar/8888128/beta-practi
 ce
DTSTART:20260129T210000Z
DTEND:20260129T223000Z
END:VEVENT
END:VCALENDAR
