BEGIN:VCALENDAR
VERSION:2.0
PRODID:SchoolNow
CALSCALE:GREGORIAN
BEGIN:VEVENT
UID:7e357164-1735-11f1-9276-0affdec17683
DTSTAMP:20260420T043007Z
SUMMARY:Beta Practice
URL;VALUE=URI:https://www.tpsd.org/schools/lpe/calendar/8888127/beta-practi
 ce
DTSTART:20260127T210000Z
DTEND:20260127T223000Z
END:VEVENT
END:VCALENDAR
