BEGIN:VCALENDAR
VERSION:2.0
PRODID:SchoolNow
CALSCALE:GREGORIAN
BEGIN:VEVENT
UID:7e35707e-1735-11f1-af8a-0affdec17683
DTSTAMP:20260420T043007Z
SUMMARY:Beta Practice
URL;VALUE=URI:https://www.tpsd.org/schools/lpe/calendar/8888126/beta-practi
 ce
DTSTART:20260122T210000Z
DTEND:20260122T223000Z
END:VEVENT
END:VCALENDAR
