BEGIN:VCALENDAR
VERSION:2.0
PRODID:SchoolNow
CALSCALE:GREGORIAN
BEGIN:VEVENT
UID:7e356ea8-1735-11f1-8e89-0affdec17683
DTSTAMP:20260420T043007Z
SUMMARY:Beta Practice
URL;VALUE=URI:https://www.tpsd.org/schools/lpe/calendar/8888124/beta-practi
 ce
DTSTART:20260115T210000Z
DTEND:20260115T223000Z
END:VEVENT
END:VCALENDAR
