BEGIN:VCALENDAR
VERSION:2.0
PRODID:SchoolNow
CALSCALE:GREGORIAN
BEGIN:VEVENT
UID:7e356ce6-1735-11f1-8d57-0affdec17683
DTSTAMP:20260420T043007Z
SUMMARY:Beta Practice
URL;VALUE=URI:https://www.tpsd.org/schools/lpe/calendar/8888122/beta-practi
 ce
DTSTART:20260108T210000Z
DTEND:20260108T223000Z
END:VEVENT
END:VCALENDAR
