BEGIN:VCALENDAR
VERSION:2.0
PRODID:SchoolNow
CALSCALE:GREGORIAN
BEGIN:VEVENT
UID:7e356a8e-1735-11f1-94d2-0affdec17683
DTSTAMP:20260420T043007Z
SUMMARY:STEM Family Night
URL;VALUE=URI:https://www.tpsd.org/schools/lpe/calendar/8888120/stem-family
 -night
DTSTART:20260310T233000Z
DTEND:20260311T004500Z
END:VEVENT
END:VCALENDAR
