BEGIN:VCALENDAR
VERSION:2.0
PRODID:SchoolNow
CALSCALE:GREGORIAN
BEGIN:VEVENT
UID:7e35699e-1735-11f1-9002-0affdec17683
DTSTAMP:20260420T043007Z
SUMMARY:STEM Family Night
URL;VALUE=URI:https://www.tpsd.org/schools/lpe/calendar/8888119/stem-family
 -night
DTSTART:20260309T233000Z
DTEND:20260310T004500Z
END:VEVENT
END:VCALENDAR
