BEGIN:VCALENDAR
VERSION:2.0
PRODID:SchoolNow
CALSCALE:GREGORIAN
BEGIN:VEVENT
UID:7e3565b6-1735-11f1-80aa-0affdec17683
DTSTAMP:20260420T043007Z
SUMMARY:3rd/4th Grade After School Tutoring
URL;VALUE=URI:https://www.tpsd.org/schools/lpe/calendar/8888115/3rd-4th-gra
 de-after-school-tutoring
DTSTART:20260317T200000Z
DTEND:20260317T213000Z
END:VEVENT
END:VCALENDAR
