BEGIN:VCALENDAR
VERSION:2.0
PRODID:SchoolNow
CALSCALE:GREGORIAN
BEGIN:VEVENT
UID:7e3562f0-1735-11f1-98f2-0affdec17683
DTSTAMP:20260420T043006Z
SUMMARY:3rd/4th Grade After School Tutoring
URL;VALUE=URI:https://www.tpsd.org/schools/lpe/calendar/8888112/3rd-4th-gra
 de-after-school-tutoring
DTSTART:20260305T210000Z
DTEND:20260305T223000Z
END:VEVENT
END:VCALENDAR
