BEGIN:VCALENDAR
VERSION:2.0
PRODID:SchoolNow
CALSCALE:GREGORIAN
BEGIN:VEVENT
UID:7e3560a2-1735-11f1-a196-0affdec17683
DTSTAMP:20260420T043006Z
SUMMARY:Report Cards Issued in Parent Portal
URL;VALUE=URI:https://www.tpsd.org/schools/lpe/calendar/8888110/report-card
 s-issued-in-parent-portal
DTSTART:20260109T183000Z
DTEND:20260109T210000Z
END:VEVENT
END:VCALENDAR
