BEGIN:VCALENDAR
VERSION:2.0
PRODID:SchoolNow
CALSCALE:GREGORIAN
BEGIN:VEVENT
UID:7e355fa8-1735-11f1-8609-0affdec17683
DTSTAMP:20260420T043006Z
SUMMARY:Winter Dance: 3rd-6th grades
URL;VALUE=URI:https://www.tpsd.org/schools/lpe/calendar/8888109/winter-danc
 e-3rd-6th-grades
DTSTART:20260228T000000Z
DTEND:20260228T020000Z
END:VEVENT
END:VCALENDAR
