BEGIN:VCALENDAR
VERSION:2.0
PRODID:SchoolNow
CALSCALE:GREGORIAN
BEGIN:VEVENT
UID:7e355e5e-1735-11f1-b698-0affdec17683
DTSTAMP:20260420T043006Z
SUMMARY:Staff Development Day- No School for Students
URL;VALUE=URI:https://www.tpsd.org/schools/lpe/calendar/8888108/staff-devel
 opment-day-no-school-for-students
DTSTART;VALUE=DATE:20260116
DTEND;VALUE=DATE:20260117
END:VEVENT
END:VCALENDAR
