BEGIN:VCALENDAR
VERSION:2.0
PRODID:SchoolNow
CALSCALE:GREGORIAN
BEGIN:VEVENT
UID:7e355d78-1735-11f1-8863-0affdec17683
DTSTAMP:20260420T043006Z
SUMMARY:5th Grade Mock Trial
URL;VALUE=URI:https://www.tpsd.org/schools/lpe/calendar/8888107/5th-grade-m
 ock-trial
DTSTART:20260331T170000Z
DTEND:20260331T180000Z
END:VEVENT
END:VCALENDAR
