BEGIN:VCALENDAR
VERSION:2.0
PRODID:SchoolNow
CALSCALE:GREGORIAN
BEGIN:VEVENT
UID:7e355c1a-1735-11f1-a267-0affdec17683
DTSTAMP:20260420T043006Z
SUMMARY:Harvey Rabbit PK-2nd grade
URL;VALUE=URI:https://www.tpsd.org/schools/lpe/calendar/8888106/harvey-rabb
 it-pk-2nd-grade
DTSTART;VALUE=DATE:20260310
DTEND;VALUE=DATE:20260311
END:VEVENT
END:VCALENDAR
