BEGIN:VCALENDAR
VERSION:2.0
PRODID:SchoolNow
CALSCALE:GREGORIAN
BEGIN:VEVENT
UID:7e355b34-1735-11f1-9d50-0affdec17683
DTSTAMP:20260420T043006Z
SUMMARY:LEAP Pep Rally
URL;VALUE=URI:https://www.tpsd.org/schools/lpe/calendar/8888105/leap-pep-ra
 lly
DTSTART:20260330T183000Z
DTEND:20260330T193000Z
END:VEVENT
END:VCALENDAR
