BEGIN:VCALENDAR
VERSION:2.0
PRODID:SchoolNow
CALSCALE:GREGORIAN
BEGIN:VEVENT
UID:7e355a30-1735-11f1-97b7-0affdec17683
DTSTAMP:20260420T043006Z
SUMMARY:PBIS Reward PK-3rd Grade
URL;VALUE=URI:https://www.tpsd.org/schools/lpe/calendar/8888104/pbis-reward
 -pk-3rd-grade
DTSTART;VALUE=DATE:20260331
DTEND;VALUE=DATE:20260401
END:VEVENT
END:VCALENDAR
