BEGIN:VCALENDAR
VERSION:2.0
PRODID:SchoolNow
CALSCALE:GREGORIAN
BEGIN:VEVENT
UID:7e3558dc-1735-11f1-b8fe-0affdec17683
DTSTAMP:20260420T043006Z
SUMMARY:Bricks 4 Kidz- 1st Grade
URL;VALUE=URI:https://www.tpsd.org/schools/lpe/calendar/8888103/bricks-4-ki
 dz-1st-grade
DTSTART;VALUE=DATE:20260320
DTEND;VALUE=DATE:20260321
END:VEVENT
END:VCALENDAR
