BEGIN:VCALENDAR
VERSION:2.0
PRODID:SchoolNow
CALSCALE:GREGORIAN
BEGIN:VEVENT
UID:7e3556b6-1735-11f1-875d-0affdec17683
DTSTAMP:20260420T043006Z
SUMMARY:6th Grade Gifted Field Trip
URL;VALUE=URI:https://www.tpsd.org/schools/lpe/calendar/8888102/6th-grade-g
 ifted-field-trip
DTSTART;VALUE=DATE:20260326
DTEND;VALUE=DATE:20260327
END:VEVENT
END:VCALENDAR
