BEGIN:VCALENDAR
VERSION:2.0
PRODID:SchoolNow
CALSCALE:GREGORIAN
BEGIN:VEVENT
UID:7e3551ac-1735-11f1-89d1-0affdec17683
DTSTAMP:20260420T043006Z
SUMMARY:Spring Pictures
URL;VALUE=URI:https://www.tpsd.org/schools/lpe/calendar/8888101/spring-pict
 ures
DTSTART;VALUE=DATE:20260311
DTEND;VALUE=DATE:20260312
END:VEVENT
END:VCALENDAR
