BEGIN:VCALENDAR
VERSION:2.0
PRODID:SchoolNow
CALSCALE:GREGORIAN
BEGIN:VEVENT
UID:7e355076-1735-11f1-87f2-0affdec17683
DTSTAMP:20260420T043006Z
SUMMARY:Parish Honor Band Rehearsal @HLB
URL;VALUE=URI:https://www.tpsd.org/schools/lpe/calendar/8888100/parish-hono
 r-band-rehearsal-hlb
DTSTART:20260123T143000Z
DTEND:20260123T213000Z
END:VEVENT
END:VCALENDAR
