BEGIN:VCALENDAR
VERSION:2.0
PRODID:SchoolNow
CALSCALE:GREGORIAN
BEGIN:VEVENT
UID:7e354ef0-1735-11f1-a762-0affdec17683
DTSTAMP:20260420T043006Z
SUMMARY:Kindergarten Royal Day
URL;VALUE=URI:https://www.tpsd.org/schools/lpe/calendar/8888099/kindergarte
 n-royal-day
DTSTART;VALUE=DATE:20260115
DTEND;VALUE=DATE:20260116
END:VEVENT
END:VCALENDAR
