BEGIN:VCALENDAR
VERSION:2.0
PRODID:SchoolNow
CALSCALE:GREGORIAN
BEGIN:VEVENT
UID:7e354dd8-1735-11f1-8760-0affdec17683
DTSTAMP:20260420T043006Z
SUMMARY:Honor Roll Reward
URL;VALUE=URI:https://www.tpsd.org/schools/lpe/calendar/8888098/honor-roll-
 reward
DTSTART;VALUE=DATE:20260324
DTEND;VALUE=DATE:20260325
END:VEVENT
END:VCALENDAR
