BEGIN:VCALENDAR
VERSION:2.0
PRODID:SchoolNow
CALSCALE:GREGORIAN
BEGIN:VEVENT
UID:7e354cf2-1735-11f1-8a76-0affdec17683
DTSTAMP:20260420T043006Z
SUMMARY:Dr. Martin Luther King Jr. Holiday- No School
URL;VALUE=URI:https://www.tpsd.org/schools/lpe/calendar/8888097/dr-martin-l
 uther-king-jr-holiday-no-school
DTSTART;VALUE=DATE:20260119
DTEND;VALUE=DATE:20260120
END:VEVENT
END:VCALENDAR
