BEGIN:VCALENDAR
VERSION:2.0
PRODID:SchoolNow
CALSCALE:GREGORIAN
BEGIN:VEVENT
UID:7e354c0c-1735-11f1-91a8-0affdec17683
DTSTAMP:20260420T043006Z
SUMMARY:4H Meeting
URL;VALUE=URI:https://www.tpsd.org/schools/lpe/calendar/8888096/4h-meeting
DTSTART:20260106T140000Z
DTEND:20260106T143000Z
END:VEVENT
END:VCALENDAR
