BEGIN:VCALENDAR
VERSION:2.0
PRODID:SchoolNow
CALSCALE:GREGORIAN
BEGIN:VEVENT
UID:7e354af4-1735-11f1-836f-0affdec17683
DTSTAMP:20260420T043006Z
SUMMARY:4H Warm Hands\, Warm Hearts Contest
URL;VALUE=URI:https://www.tpsd.org/schools/lpe/calendar/8888095/4h-warm-han
 ds-warm-hearts-contest
DTSTART:20260115T134500Z
DTEND:20260115T141500Z
END:VEVENT
END:VCALENDAR
