BEGIN:VCALENDAR
VERSION:2.0
PRODID:SchoolNow
CALSCALE:GREGORIAN
BEGIN:VEVENT
UID:7e3549fa-1735-11f1-a580-0affdec17683
DTSTAMP:20260420T043006Z
SUMMARY:Parish Honor Band Rehearsal @HLB
URL;VALUE=URI:https://www.tpsd.org/schools/lpe/calendar/8888094/parish-hono
 r-band-rehearsal-hlb
DTSTART:20260124T140000Z
DTEND:20260124T160000Z
END:VEVENT
END:VCALENDAR
