BEGIN:VCALENDAR
VERSION:2.0
PRODID:SchoolNow
CALSCALE:GREGORIAN
BEGIN:VEVENT
UID:7e3548f6-1735-11f1-85d2-0affdec17683
DTSTAMP:20260420T043006Z
SUMMARY:PBIS Reward 4th-6th Grade
URL;VALUE=URI:https://www.tpsd.org/schools/lpe/calendar/8888093/pbis-reward
 -4th-6th-grade
DTSTART;VALUE=DATE:20260330
DTEND;VALUE=DATE:20260331
END:VEVENT
END:VCALENDAR
