BEGIN:VCALENDAR
VERSION:2.0
PRODID:SchoolNow
CALSCALE:GREGORIAN
BEGIN:VEVENT
UID:7e354806-1735-11f1-8430-0affdec17683
DTSTAMP:20260420T043006Z
SUMMARY:Parish Honor Band Rehearsal @HLB
URL;VALUE=URI:https://www.tpsd.org/schools/lpe/calendar/8888092/parish-hono
 r-band-rehearsal-hlb
DTSTART:20260122T233000Z
DTEND:20260123T020000Z
END:VEVENT
END:VCALENDAR
