BEGIN:VCALENDAR
VERSION:2.0
PRODID:SchoolNow
CALSCALE:GREGORIAN
BEGIN:VEVENT
UID:7e3546f8-1735-11f1-b772-0affdec17683
DTSTAMP:20260420T043006Z
SUMMARY:Breakfast with the Principal
URL;VALUE=URI:https://www.tpsd.org/schools/lpe/calendar/8888091/breakfast-w
 ith-the-principal
DTSTART:20260114T140000Z
DTEND:20260114T143000Z
END:VEVENT
END:VCALENDAR
