BEGIN:VCALENDAR
VERSION:2.0
PRODID:SchoolNow
CALSCALE:GREGORIAN
BEGIN:VEVENT
UID:7e3545d6-1735-11f1-8874-0affdec17683
DTSTAMP:20260420T043006Z
SUMMARY:Class Pictures
URL;VALUE=URI:https://www.tpsd.org/schools/lpe/calendar/8888090/class-pictu
 res
DTSTART;VALUE=DATE:20260128
DTEND;VALUE=DATE:20260129
END:VEVENT
END:VCALENDAR
