BEGIN:VCALENDAR
VERSION:2.0
PRODID:SchoolNow
CALSCALE:GREGORIAN
BEGIN:VEVENT
UID:7e354482-1735-11f1-8c2b-0affdec17683
DTSTAMP:20260420T043006Z
SUMMARY:"A" Conduct Dress Down
URL;VALUE=URI:https://www.tpsd.org/schools/lpe/calendar/8888089/a-conduct-d
 ress-down
DTSTART;VALUE=DATE:20260326
DTEND;VALUE=DATE:20260327
END:VEVENT
END:VCALENDAR
