BEGIN:VCALENDAR
VERSION:2.0
PRODID:SchoolNow
CALSCALE:GREGORIAN
BEGIN:VEVENT
UID:7e354306-1735-11f1-96f8-0affdec17683
DTSTAMP:20260420T043006Z
SUMMARY:Report Cards Available in Parent Portal
URL;VALUE=URI:https://www.tpsd.org/schools/lpe/calendar/8888088/report-card
 s-available-in-parent-portal
DTSTART;VALUE=DATE:20260320
DTEND;VALUE=DATE:20260321
END:VEVENT
END:VCALENDAR
