BEGIN:VCALENDAR
VERSION:2.0
PRODID:SchoolNow
CALSCALE:GREGORIAN
BEGIN:VEVENT
UID:7e3541e4-1735-11f1-ad28-0affdec17683
DTSTAMP:20260420T043006Z
SUMMARY:"A" Conduct Dress Down
URL;VALUE=URI:https://www.tpsd.org/schools/lpe/calendar/8888087/a-conduct-d
 ress-down
DTSTART;VALUE=DATE:20260115
DTEND;VALUE=DATE:20260116
END:VEVENT
END:VCALENDAR
