BEGIN:VCALENDAR
VERSION:2.0
PRODID:SchoolNow
CALSCALE:GREGORIAN
BEGIN:VEVENT
UID:7e35409a-1735-11f1-9a21-0affdec17683
DTSTAMP:20260420T043006Z
SUMMARY:5th Grade Gifted Field Trip
URL;VALUE=URI:https://www.tpsd.org/schools/lpe/calendar/8888086/5th-grade-g
 ifted-field-trip
DTSTART;VALUE=DATE:20260318
DTEND;VALUE=DATE:20260319
END:VEVENT
END:VCALENDAR
