BEGIN:VCALENDAR
VERSION:2.0
PRODID:SchoolNow
CALSCALE:GREGORIAN
BEGIN:VEVENT
UID:7e353ed8-1735-11f1-ba4e-0affdec17683
DTSTAMP:20260420T043006Z
SUMMARY:Parish Honor Band Concert @HLB
URL;VALUE=URI:https://www.tpsd.org/schools/lpe/calendar/8888085/parish-hono
 r-band-concert-hlb
DTSTART:20260124T190000Z
DTEND:20260124T193000Z
END:VEVENT
END:VCALENDAR
