BEGIN:VCALENDAR
VERSION:2.0
PRODID:SchoolNow
CALSCALE:GREGORIAN
BEGIN:VEVENT
UID:7e35387a-1735-11f1-bb33-0affdec17683
DTSTAMP:20260420T043006Z
SUMMARY:Breakfast with the Principal
URL;VALUE=URI:https://www.tpsd.org/schools/lpe/calendar/8888084/breakfast-w
 ith-the-principal
DTSTART:20260325T130000Z
DTEND:20260325T140000Z
END:VEVENT
END:VCALENDAR
