BEGIN:VCALENDAR
VERSION:2.0
PRODID:SchoolNow
CALSCALE:GREGORIAN
BEGIN:VEVENT
UID:e7969304-c668-11f0-a6c8-0affe7481165
DTSTAMP:20260420T043006Z
SUMMARY:4th Grade GT field trip
URL;VALUE=URI:https://www.tpsd.org/schools/lpe/calendar/8806405/4th-grade-g
 t-field-trip
DTSTART;VALUE=DATE:20260129
DTEND;VALUE=DATE:20260130
END:VEVENT
END:VCALENDAR
