BEGIN:VCALENDAR
VERSION:2.0
PRODID:SchoolNow
CALSCALE:GREGORIAN
BEGIN:VEVENT
UID:e7968b20-c668-11f0-9760-0affe7481165
DTSTAMP:20260420T043006Z
SUMMARY:2nd Grade GT Field Trip
URL;VALUE=URI:https://www.tpsd.org/schools/lpe/calendar/8806398/2nd-grade-g
 t-field-trip
DTSTART;VALUE=DATE:20260227
DTEND;VALUE=DATE:20260228
END:VEVENT
END:VCALENDAR
