BEGIN:VCALENDAR
VERSION:2.0
PRODID:SchoolNow
CALSCALE:GREGORIAN
BEGIN:VEVENT
UID:e7968288-c668-11f0-9686-0affe7481165
DTSTAMP:20260420T043006Z
SUMMARY:3rd Grade GT Field Trip
URL;VALUE=URI:https://www.tpsd.org/schools/lpe/calendar/8806391/3rd-grade-g
 t-field-trip
DTSTART;VALUE=DATE:20260204
DTEND;VALUE=DATE:20260205
END:VEVENT
END:VCALENDAR
