BEGIN:VCALENDAR
VERSION:2.0
PRODID:SchoolNow
CALSCALE:GREGORIAN
BEGIN:VEVENT
UID:e7967b94-c668-11f0-abb4-0affe7481165
DTSTAMP:20260420T043006Z
SUMMARY:Christmas Holiday- No School
URL;VALUE=URI:https://www.tpsd.org/schools/lpe/calendar/8806388/christmas-h
 oliday-no-school
DTSTART;VALUE=DATE:20251222
DTEND;VALUE=DATE:20260103
END:VEVENT
END:VCALENDAR
